BEGIN:VCALENDAR
VERSION:2.0
PRODID:-//PCI Sumps - ECPv6.15.13//NONSGML v1.0//EN
CALSCALE:GREGORIAN
METHOD:PUBLISH
X-WR-CALNAME:PCI Sumps
X-ORIGINAL-URL:https://www.petroleum-containment.com
X-WR-CALDESC:Events for PCI Sumps
REFRESH-INTERVAL;VALUE=DURATION:PT1H
X-Robots-Tag:noindex
X-PUBLISHED-TTL:PT1H
BEGIN:VTIMEZONE
TZID:UTC
BEGIN:STANDARD
TZOFFSETFROM:+0000
TZOFFSETTO:+0000
TZNAME:UTC
DTSTART:20220101T000000
END:STANDARD
END:VTIMEZONE
BEGIN:VEVENT
DTSTART;VALUE=DATE:20230329
DTEND;VALUE=DATE:20230331
DTSTAMP:20260423T215134
CREATED:20230220T205458Z
LAST-MODIFIED:20230220T205458Z
UID:2358-1680048000-1680220799@www.petroleum-containment.com
SUMMARY:John W. Kennedy Trade Show
DESCRIPTION:
URL:https://www.petroleum-containment.com/event/john-w-kennedy-trade-show/
LOCATION:Crowne Plaza Warwick\, 801 Greenwich Ave\, Warwick\, RI\, 02886\, United States
END:VEVENT
END:VCALENDAR