BEGIN:VCALENDAR
VERSION:2.0
PRODID:-//PCI Sumps - ECPv6.15.13//NONSGML v1.0//EN
CALSCALE:GREGORIAN
METHOD:PUBLISH
X-WR-CALNAME:PCI Sumps
X-ORIGINAL-URL:https://www.petroleum-containment.com
X-WR-CALDESC:Events for PCI Sumps
REFRESH-INTERVAL;VALUE=DURATION:PT1H
X-Robots-Tag:noindex
X-PUBLISHED-TTL:PT1H
BEGIN:VTIMEZONE
TZID:UTC
BEGIN:STANDARD
TZOFFSETFROM:+0000
TZOFFSETTO:+0000
TZNAME:UTC
DTSTART:20210101T000000
END:STANDARD
END:VTIMEZONE
BEGIN:VEVENT
DTSTART;VALUE=DATE:20250201
DTEND;VALUE=DATE:20250203
DTSTAMP:20260420T065305
CREATED:20220105T145829Z
LAST-MODIFIED:20260108T203740Z
UID:2001-1738368000-1738540799@www.petroleum-containment.com
SUMMARY:PACE Show - Booth 420
DESCRIPTION:PCI is heading to the PACE Show—the Midwest’s leading event for fuel marketers\, c-store operators\, and food and beverage retailers. For over 20 years\, PACE has delivered industry-specific education\, the latest products and equipment\, and unmatched networking opportunities. With top manufacturers\, key service providers\, and focused industry meetings\, it’s the go-to event to boost profitability\, streamline operations\, and connect with peers across the central U.S.
URL:https://www.petroleum-containment.com/event/pace-show/
LOCATION:Kansas City Convention Center\, 301 W. 13th St Suite 100\, Kansas City\, MO\, 64105\, United States
CATEGORIES:Trade Shows
ATTACH;FMTTYPE=image/jpeg:https://www.petroleum-containment.com/wp-content/uploads/2022/01/paceshow.jpg
END:VEVENT
BEGIN:VEVENT
DTSTART;VALUE=DATE:20230404
DTEND;VALUE=DATE:20230407
DTSTAMP:20260420T065305
CREATED:20230103T190910Z
LAST-MODIFIED:20230103T190941Z
UID:2270-1680566400-1680825599@www.petroleum-containment.com
SUMMARY:2023 M-PACT
DESCRIPTION:
URL:https://www.petroleum-containment.com/event/2023-m-pact/
LOCATION:Indiana Convention Center\, 100 S. Capitol Ave\, Indianapolis\, IN\, 46225\, United States
CATEGORIES:Trade Shows
END:VEVENT
BEGIN:VEVENT
DTSTART;VALUE=DATE:20230329
DTEND;VALUE=DATE:20230331
DTSTAMP:20260420T065305
CREATED:20230220T205458Z
LAST-MODIFIED:20230220T205458Z
UID:2358-1680048000-1680220799@www.petroleum-containment.com
SUMMARY:John W. Kennedy Trade Show
DESCRIPTION:
URL:https://www.petroleum-containment.com/event/john-w-kennedy-trade-show/
LOCATION:Crowne Plaza Warwick\, 801 Greenwich Ave\, Warwick\, RI\, 02886\, United States
END:VEVENT
BEGIN:VEVENT
DTSTART;VALUE=DATE:20230301
DTEND;VALUE=DATE:20230303
DTSTAMP:20260420T065305
CREATED:20230103T190730Z
LAST-MODIFIED:20230103T190730Z
UID:2268-1677628800-1677801599@www.petroleum-containment.com
SUMMARY:2023 SouthEast Petro Food & Marketing Expo
DESCRIPTION:
URL:https://www.petroleum-containment.com/event/2023-southeast-petro-food-marketing-expo/
LOCATION:Myrtle Beach Convention Center\, 2101 N Oak St\, Myrtle Beach\, SC\, 29577\, United States
CATEGORIES:Trade Shows
END:VEVENT
BEGIN:VEVENT
DTSTART;VALUE=DATE:20230221
DTEND;VALUE=DATE:20230224
DTSTAMP:20260420T065305
CREATED:20220809T193245Z
LAST-MODIFIED:20230103T184910Z
UID:2096-1676937600-1677196799@www.petroleum-containment.com
SUMMARY:2023 WPMA
DESCRIPTION:Booth #1121
URL:https://www.petroleum-containment.com/event/2023-wpma/
LOCATION:Mirage Convention Center\, 3400 Las Vegas Blvd S\, Las Vegas\, NV\, 89109\, United States
CATEGORIES:Trade Shows
END:VEVENT
BEGIN:VEVENT
DTSTART;VALUE=DATE:20220523
DTEND;VALUE=DATE:20220526
DTSTAMP:20260420T065305
CREATED:20220113T200424Z
LAST-MODIFIED:20220113T200918Z
UID:2041-1653264000-1653523199@www.petroleum-containment.com
SUMMARY:Eastern Energy Expo
DESCRIPTION:Booth Number: 320
URL:https://www.petroleum-containment.com/event/eastern-energy-expo/
LOCATION:Mohegan Sun\, 1 Mohegan Sun Blvd.\, Uncasville\, CT\, 06382\, United States
CATEGORIES:Trade Shows
END:VEVENT
BEGIN:VEVENT
DTSTART;VALUE=DATE:20220418
DTEND;VALUE=DATE:20220421
DTSTAMP:20260420T065305
CREATED:20220105T154947Z
LAST-MODIFIED:20220105T154947Z
UID:2022-1650240000-1650499199@www.petroleum-containment.com
SUMMARY:Upper Midwest Convenience Store & Energy Convention
DESCRIPTION:Booth Number: 541
URL:https://www.petroleum-containment.com/event/upper-midwest-convenience-store-energy-convention/
LOCATION:St. Paul RiverCentre\, 175 Kellogg Blvd West\, St. Paul\, MN\, 55102\, United States
CATEGORIES:Trade Shows
END:VEVENT
END:VCALENDAR