BEGIN:VCALENDAR
VERSION:2.0
PRODID:-//PCI Sumps - ECPv6.15.13//NONSGML v1.0//EN
CALSCALE:GREGORIAN
METHOD:PUBLISH
X-WR-CALNAME:PCI Sumps
X-ORIGINAL-URL:https://www.petroleum-containment.com
X-WR-CALDESC:Events for PCI Sumps
REFRESH-INTERVAL;VALUE=DURATION:PT1H
X-Robots-Tag:noindex
X-PUBLISHED-TTL:PT1H
BEGIN:VTIMEZONE
TZID:UTC
BEGIN:STANDARD
TZOFFSETFROM:+0000
TZOFFSETTO:+0000
TZNAME:UTC
DTSTART:20250101T000000
END:STANDARD
END:VTIMEZONE
BEGIN:VEVENT
DTSTART;VALUE=DATE:20260908
DTEND;VALUE=DATE:20260911
DTSTAMP:20260420T072536
CREATED:20220809T192949Z
LAST-MODIFIED:20260303T134229Z
UID:2091-1788825600-1789084799@www.petroleum-containment.com
SUMMARY:CFCA Summit - Booth 212
DESCRIPTION:Join PCI at The Summit\, California’s premier event for fuel marketers\, gas stations\, and convenience store operators. This three-day conference—formerly known as PFCS—brings together over 1\,400 industry professionals for top-tier networking\, vendor showcases\, and business-focused education sessions. It’s the state’s largest collaborative gathering for the petroleum and c-store industries\, designed to help you connect\, learn\, and grow. \n 
URL:https://www.petroleum-containment.com/event/2022-pacific-fuels-convenience-summit/
LOCATION:Hotel Del Coronado\, 1500 Orange Ave\, Coronado\, 92118\, United States
CATEGORIES:Trade Shows
ATTACH;FMTTYPE=image/png:https://www.petroleum-containment.com/wp-content/uploads/2022/08/cfca.png
END:VEVENT
BEGIN:VEVENT
DTSTART;VALUE=DATE:20261006
DTEND;VALUE=DATE:20261010
DTSTAMP:20260420T072536
CREATED:20220113T201121Z
LAST-MODIFIED:20251215T201345Z
UID:2052-1791244800-1791590399@www.petroleum-containment.com
SUMMARY:NACS Show - Booth 6847
DESCRIPTION:Petroleum Containment\, Inc. (PCI) is proud to exhibit at the NACS Show—the convenience and fuel retailing industry’s largest and most influential event\, bringing together more than 23\,000 stakeholders from around the world. \nThis expansive expo features 430\,000 square feet of the latest products\, services\, and innovations across five key areas: Facility Operations\, Foodservice\, Fuel Equipment & Services\, In-Store Merchandise\, and Technology. It’s the ultimate hands-on environment to discover what’s next in the industry. \nVisit PCI’s booth to learn how our advanced fiberglass containment solutions are engineered for long-term protection and performance in fuel system infrastructure. We look forward to connecting with you\, sharing insights\, and supporting your success in today’s evolving retail landscape.
URL:https://www.petroleum-containment.com/event/pei-convention-at-the-nacs-show/
LOCATION:Las Vegas Convention Center\, 3150 Paradise Rd\, Las Vegas\, NV\, 89109\, United States
CATEGORIES:Trade Shows
ATTACH;FMTTYPE=image/png:https://www.petroleum-containment.com/wp-content/uploads/2022/01/NACS.png
END:VEVENT
END:VCALENDAR